BEGIN:VCALENDAR
VERSION:2.0
PRODID:-//North Alabama Area of NA - ECPv6.15.20//NONSGML v1.0//EN
CALSCALE:GREGORIAN
METHOD:PUBLISH
X-WR-CALNAME:North Alabama Area of NA
X-ORIGINAL-URL:https://naana.org
X-WR-CALDESC:Events for North Alabama Area of NA
REFRESH-INTERVAL;VALUE=DURATION:PT1H
X-Robots-Tag:noindex
X-PUBLISHED-TTL:PT1H
BEGIN:VTIMEZONE
TZID:America/New_York
BEGIN:DAYLIGHT
TZOFFSETFROM:-0500
TZOFFSETTO:-0400
TZNAME:EDT
DTSTART:20170312T070000
END:DAYLIGHT
BEGIN:STANDARD
TZOFFSETFROM:-0400
TZOFFSETTO:-0500
TZNAME:EST
DTSTART:20171105T060000
END:STANDARD
BEGIN:DAYLIGHT
TZOFFSETFROM:-0500
TZOFFSETTO:-0400
TZNAME:EDT
DTSTART:20180311T070000
END:DAYLIGHT
BEGIN:STANDARD
TZOFFSETFROM:-0400
TZOFFSETTO:-0500
TZNAME:EST
DTSTART:20181104T060000
END:STANDARD
BEGIN:DAYLIGHT
TZOFFSETFROM:-0500
TZOFFSETTO:-0400
TZNAME:EDT
DTSTART:20190310T070000
END:DAYLIGHT
BEGIN:STANDARD
TZOFFSETFROM:-0400
TZOFFSETTO:-0500
TZNAME:EST
DTSTART:20191103T060000
END:STANDARD
BEGIN:DAYLIGHT
TZOFFSETFROM:-0500
TZOFFSETTO:-0400
TZNAME:EDT
DTSTART:20200308T070000
END:DAYLIGHT
BEGIN:STANDARD
TZOFFSETFROM:-0400
TZOFFSETTO:-0500
TZNAME:EST
DTSTART:20201101T060000
END:STANDARD
BEGIN:DAYLIGHT
TZOFFSETFROM:-0500
TZOFFSETTO:-0400
TZNAME:EDT
DTSTART:20210314T070000
END:DAYLIGHT
BEGIN:STANDARD
TZOFFSETFROM:-0400
TZOFFSETTO:-0500
TZNAME:EST
DTSTART:20211107T060000
END:STANDARD
BEGIN:DAYLIGHT
TZOFFSETFROM:-0500
TZOFFSETTO:-0400
TZNAME:EDT
DTSTART:20220313T070000
END:DAYLIGHT
BEGIN:STANDARD
TZOFFSETFROM:-0400
TZOFFSETTO:-0500
TZNAME:EST
DTSTART:20221106T060000
END:STANDARD
BEGIN:DAYLIGHT
TZOFFSETFROM:-0500
TZOFFSETTO:-0400
TZNAME:EDT
DTSTART:20230312T070000
END:DAYLIGHT
BEGIN:STANDARD
TZOFFSETFROM:-0400
TZOFFSETTO:-0500
TZNAME:EST
DTSTART:20231105T060000
END:STANDARD
BEGIN:DAYLIGHT
TZOFFSETFROM:-0500
TZOFFSETTO:-0400
TZNAME:EDT
DTSTART:20240310T070000
END:DAYLIGHT
BEGIN:STANDARD
TZOFFSETFROM:-0400
TZOFFSETTO:-0500
TZNAME:EST
DTSTART:20241103T060000
END:STANDARD
BEGIN:DAYLIGHT
TZOFFSETFROM:-0500
TZOFFSETTO:-0400
TZNAME:EDT
DTSTART:20250309T070000
END:DAYLIGHT
BEGIN:STANDARD
TZOFFSETFROM:-0400
TZOFFSETTO:-0500
TZNAME:EST
DTSTART:20251102T060000
END:STANDARD
BEGIN:DAYLIGHT
TZOFFSETFROM:-0500
TZOFFSETTO:-0400
TZNAME:EDT
DTSTART:20260308T070000
END:DAYLIGHT
BEGIN:STANDARD
TZOFFSETFROM:-0400
TZOFFSETTO:-0500
TZNAME:EST
DTSTART:20261101T060000
END:STANDARD
END:VTIMEZONE
BEGIN:VEVENT
DTSTART;TZID=America/New_York:20250719T140000
DTEND;TZID=America/New_York:20250719T190000
DTSTAMP:20260425T101653
CREATED:20220909T062130Z
LAST-MODIFIED:20250414T192517Z
UID:393-1752933600-1752951600@naana.org
SUMMARY:NAANA Out Of The Darkness Into The Light Fundraiser
DESCRIPTION:
URL:https://naana.org/event/naana-out-of-the-darkness-into-the-light-fundraiserhalloween-party/
LOCATION:First United Methodist Church\, 200 S Court St.\, Hohenwald\, TN\, 38462\, United States
CATEGORIES:Out Of The Darkness Convention
ATTACH;FMTTYPE=image/jpeg:https://naana.org/wp-content/uploads/2022/09/IMG_9492.jpeg
END:VEVENT
BEGIN:VEVENT
DTSTART;VALUE=DATE:20250620
DTEND;VALUE=DATE:20250623
DTSTAMP:20260425T101653
CREATED:20240213T162219Z
LAST-MODIFIED:20250414T191722Z
UID:402-1750377600-1750636799@naana.org
SUMMARY:Survival Group's Crazy Horse Camping/Canoe float
DESCRIPTION:
URL:https://naana.org/event/survival-groups-crazy-horse-camping-canoe-float/
LOCATION:Crazy Horse\, 2505\, Waynesboro\, TN\, 38462\, United States
CATEGORIES:Survival Group
ATTACH;FMTTYPE=image/jpeg:https://naana.org/wp-content/uploads/2024/02/IMG_9592.jpeg
END:VEVENT
BEGIN:VEVENT
DTSTART;TZID=America/New_York:20240414T140000
DTEND;TZID=America/New_York:20240414T170000
DTSTAMP:20260425T101653
CREATED:20240214T011718Z
LAST-MODIFIED:20240227T074142Z
UID:409-1713103200-1713114000@naana.org
SUMMARY:NAANA Area meeting
DESCRIPTION:
URL:https://naana.org/event/naana-area-meeting-2/
LOCATION:Newcomers\, 200 S Court St\, Hohenwald\, TN\, 38462\, United States
END:VEVENT
BEGIN:VEVENT
DTSTART;TZID=America/New_York:20240406T130000
DTEND;TZID=America/New_York:20240406T200000
DTSTAMP:20260425T101653
CREATED:20240213T161745Z
LAST-MODIFIED:20240213T161745Z
UID:400-1712408400-1712433600@naana.org
SUMMARY:Speaker Jam fundraiser ( Players Ball)
DESCRIPTION:
URL:https://naana.org/event/speaker-jam-fundraiser-players-ball/
LOCATION:Newcomers\, 200 S Court St\, Hohenwald\, TN\, 38462\, United States
END:VEVENT
BEGIN:VEVENT
DTSTART;TZID=America/New_York:20240310T140000
DTEND;TZID=America/New_York:20240310T170000
DTSTAMP:20260425T101653
CREATED:20240213T161540Z
LAST-MODIFIED:20240213T161540Z
UID:398-1710079200-1710090000@naana.org
SUMMARY:NAANA AREA MEETING
DESCRIPTION:
URL:https://naana.org/event/naana-area-meeting/
LOCATION:Newcomers\, 200 S Court St\, Hohenwald\, TN\, 38462\, United States
END:VEVENT
BEGIN:VEVENT
DTSTART;TZID=America/New_York:20240218T140000
DTEND;TZID=America/New_York:20240218T170000
DTSTAMP:20260425T101653
CREATED:20240213T184935Z
LAST-MODIFIED:20240213T184935Z
UID:405-1708264800-1708275600@naana.org
SUMMARY:Organizational Meeting for OTTD 27
DESCRIPTION:Everyone in the North Alabama Area is welcome to come nominate and elect this years convention committee.
URL:https://naana.org/event/organizational-meeting-for-ottd-27/
LOCATION:Double Tree Hotel\, 1101 6th Ave NE\, Decatur\, AL\, 35601
END:VEVENT
BEGIN:VEVENT
DTSTART;TZID=America/New_York:20220924T160000
DTEND;TZID=America/New_York:20220924T200000
DTSTAMP:20260425T101653
CREATED:20220909T060944Z
LAST-MODIFIED:20220909T060944Z
UID:384-1664035200-1664049600@naana.org
SUMMARY:Do What We Do 4th Year Anniversary
DESCRIPTION:anniversary flyer
URL:https://naana.org/event/do-what-we-do-4th-year-anniversary/
LOCATION:Park On S.Patterson St.
END:VEVENT
BEGIN:VEVENT
DTSTART;TZID=America/New_York:20220910T130000
DTEND;TZID=America/New_York:20220910T200000
DTSTAMP:20260425T101653
CREATED:20220909T061614Z
LAST-MODIFIED:20220909T061614Z
UID:390-1662814800-1662840000@naana.org
SUMMARY:Newcomers 3rd Annual Speaker Jam
DESCRIPTION:
URL:https://naana.org/event/newcomers-3rd-annual-speaker-jam/
LOCATION:Newcomers\, 200 S Court St\, Hohenwald\, TN\, 38462\, United States
END:VEVENT
BEGIN:VEVENT
DTSTART;TZID=America/New_York:20220723T160000
DTEND;TZID=America/New_York:20220723T210000
DTSTAMP:20260425T101653
CREATED:20220507T224441Z
LAST-MODIFIED:20220507T224441Z
UID:367-1658592000-1658610000@naana.org
SUMMARY:Newcomers Group "Casino Night" Fundraiser
DESCRIPTION:
URL:https://naana.org/event/newcomers-group-casino-night-fundraiser/
LOCATION:Memorial Building @ Hohenwald\, TN\, 115 Smith Avenue\, Hohenwald\, TN\, 38462\, United States
ATTACH;FMTTYPE=image/jpeg:https://naana.org/wp-content/uploads/2022/05/image0-1.jpeg
END:VEVENT
BEGIN:VEVENT
DTSTART;VALUE=DATE:20220611
DTEND;VALUE=DATE:20220612
DTSTAMP:20260425T101653
CREATED:20220507T225346Z
LAST-MODIFIED:20220507T225346Z
UID:375-1654905600-1654991999@naana.org
SUMMARY:Survival Groupn Convention Fundraiser
DESCRIPTION:
URL:https://naana.org/event/survival-groupn-convention-fundraiser/
LOCATION:Veterans Park Shelter #2\, Florence\, AL\, United States
END:VEVENT
BEGIN:VEVENT
DTSTART;TZID=America/New_York:20220521T160000
DTEND;TZID=America/New_York:20220521T200000
DTSTAMP:20260425T101653
CREATED:20220507T223340Z
LAST-MODIFIED:20220507T223340Z
UID:364-1653148800-1653163200@naana.org
SUMMARY:Newcomers 15th Anniversary Celebration
DESCRIPTION:
URL:https://naana.org/event/newcomers-15th-anniversary-celebration/
LOCATION:Newcomers\, 200 S Court St\, Hohenwald\, TN\, 38462\, United States
ATTACH;FMTTYPE=image/jpeg:https://naana.org/wp-content/uploads/2022/05/image0.jpeg
END:VEVENT
BEGIN:VEVENT
DTSTART;TZID=America/New_York:20220521T130000
DTEND;TZID=America/New_York:20220521T150000
DTSTAMP:20260425T101653
CREATED:20220507T222417Z
LAST-MODIFIED:20220507T222417Z
UID:360-1653138000-1653145200@naana.org
SUMMARY:Newcomers H and I Workshop
DESCRIPTION:
URL:https://naana.org/event/newcomers-h-and-i-workshop/
LOCATION:Newcomers\, 200 S Court St\, Hohenwald\, TN\, 38462\, United States
END:VEVENT
BEGIN:VEVENT
DTSTART;VALUE=DATE:20220513
DTEND;VALUE=DATE:20220516
DTSTAMP:20260425T101653
CREATED:20220507T211431Z
LAST-MODIFIED:20220507T211431Z
UID:355-1652400000-1652659199@naana.org
SUMMARY:Crazy horse camping & canoe
DESCRIPTION:
URL:https://naana.org/event/crazy-horse-camping-canoe/
LOCATION:TN
END:VEVENT
BEGIN:VEVENT
DTSTART;TZID=America/New_York:20220508T140000
DTEND;TZID=America/New_York:20220508T153000
DTSTAMP:20260425T101653
CREATED:20220414T003349Z
LAST-MODIFIED:20220414T003349Z
UID:350-1652018400-1652023800@naana.org
SUMMARY:NAANA ASC
DESCRIPTION:Area Service Meeting
URL:https://naana.org/event/naana-asc/
LOCATION:TN
END:VEVENT
BEGIN:VEVENT
DTSTART;TZID=America/New_York:20180610T140000
DTEND;TZID=America/New_York:20180610T163000
DTSTAMP:20260425T101653
CREATED:20160719T002630Z
LAST-MODIFIED:20180614T165935Z
UID:74-1528639200-1528648200@naana.org
SUMMARY:ASC Area Service Committee Biz Meeting
DESCRIPTION:
URL:https://naana.org/event/area-service-committee-asc/
LOCATION:OM&M\, 406 Pine Ave\, Decatur\, AL\, 35601\, United States
END:VEVENT
END:VCALENDAR